BEGIN:VCALENDAR
VERSION:2.0
PRODID:-//ChamberMaster//Event Calendar 2.0//EN
METHOD:PUBLISH
X-PUBLISHED-TTL:P3D
REFRESH-INTERVAL:P3D
CALSCALE:GREGORIAN
BEGIN:VEVENT
DTSTART:20260425T000000Z
DTEND:20260425T020000Z
X-MICROSOFT-CDO-ALLDAYEVENT:FALSE
SUMMARY:Trivia Night @The Scratching Post
DESCRIPTION:Our first trivia night was such a hit we're making it a regular thing.  Your ticket price goes into the pot for first place prize!\n\n\n	Tickets are $3 per person and can be paid when you arrive. Cash is preferred and the full ticket price goes into the pot for first place prize.\n	Teams of 6 or less\n	check-in starts at 6:45pm for 7pm start.\n	email info@scratchingpostcafe.com to let us know how many people are on your team so we can reserve the correct size table for you.
X-ALT-DESC;FMTTYPE=text/html:<p>Our first trivia night was such a hit we&rsquo\;re making it a regular thing. &nbsp\;Your ticket price goes into the pot for first place prize!</p>\n\n<ul>\n	<li>Tickets are $3 per person and can be paid when you arrive. Cash is preferred and the full ticket price goes into the pot for first place prize.</li>\n	<li>Teams of 6 or less</li>\n	<li>check-in starts at 6:45pm for 7pm start.</li>\n	<li>email info@scratchingpostcafe.com to let us know how many people are on your team so we can reserve the correct size table for you.</li>\n</ul>\n
LOCATION:The Scratching Post is Champaign's Cat & Board Game Cafe. Enjoy our light snack and drink menu\, purchase a game pass to access our massive library of 500+ board games\, or make a reservation to visit our cat lounge where 20+ adoptable cats are waiting to play with you.
UID:e.3371.6362
SEQUENCE:3
DTSTAMP:20260421T043707Z
URL:http://champaigncounty.smartcms.site/events/details/trivia-night-the-scratching-post-04-24-2026-6362
END:VEVENT

END:VCALENDAR
