BEGIN:VCALENDAR
VERSION:2.0
PRODID:-//ChamberMaster//Event Calendar 2.0//EN
METHOD:PUBLISH
X-PUBLISHED-TTL:P3D
REFRESH-INTERVAL:P3D
CALSCALE:GREGORIAN
BEGIN:VEVENT
DTSTART:20260529T163000Z
DTEND:20260529T170000Z
X-MICROSOFT-CDO-ALLDAYEVENT:FALSE
SUMMARY:Rosecrance Ribbon Cutting
DESCRIPTION:Rosecrance Behavioral Health Triage Center is opening\, and they are inviting the community to learn more about the new services being provided.
X-ALT-DESC;FMTTYPE=text/html:Rosecrance Behavioral Health Triage Center is opening\, and they are inviting the community to learn more about the new services being provided.&nbsp\;
LOCATION:2302 Moreland Blvd. Champaign\, IL 61822
UID:e.3371.6368
SEQUENCE:3
DTSTAMP:20260422T004420Z
URL:http://champaigncounty.smartcms.site/events/details/rosecrance-ribbon-cutting-6368
END:VEVENT

END:VCALENDAR
