BEGIN:VCALENDAR
VERSION:2.0
PRODID:-//ChamberMaster//Event Calendar 2.0//EN
METHOD:PUBLISH
X-PUBLISHED-TTL:P3D
REFRESH-INTERVAL:P3D
CALSCALE:GREGORIAN
BEGIN:VEVENT
DTSTART:20251202T173000Z
DTEND:20251202T180000Z
X-MICROSOFT-CDO-ALLDAYEVENT:FALSE
SUMMARY:Ribbon Cutting - Edward Jones
DESCRIPTION:Please join us on Tuesday\, December 2\, at 11:30 am for a ribbon cutting to celebrate the new location of Edward Jones\, 306 S. Neil St.\, Champaign\, IL 61820.\n\n \n\nWe hope to see you there to help welcome them to their new location.
X-ALT-DESC;FMTTYPE=text/html:<br />\n<span style="color:#1F4E79\;"><span style="font-family:arial\,sans-serif\;"><span style="font-size:11.0pt\;">Please join us on Tuesday\, December 2\, at 11:30 am for a ribbon cutting to celebrate the new location of Edward Jones\, 306 S. Neil St.\, Champaign\, IL 61820.</span></span></span><br />\n&nbsp\;<br />\n<span style="color:#1F4E79\;"><span style="font-family:arial\,sans-serif\;"><span style="font-size:11.0pt\;">We hope to see you there to help welcome them to their new location.</span></span></span><br />\n&nbsp\;
LOCATION:Edward Jones 306 S. Neil St. Champaign\, IL 61820
UID:e.3371.5932
SEQUENCE:3
DTSTAMP:20260422T052033Z
URL:http://champaigncounty.smartcms.site/events/details/ribbon-cutting-edward-jones-5932
END:VEVENT

END:VCALENDAR
