BEGIN:VCALENDAR
VERSION:2.0
PRODID:-//ChamberMaster//Event Calendar 2.0//EN
METHOD:PUBLISH
X-PUBLISHED-TTL:P3D
REFRESH-INTERVAL:P3D
CALSCALE:GREGORIAN
BEGIN:VEVENT
DTSTART:20251114T023000Z
DTEND:20251114T040000Z
X-MICROSOFT-CDO-ALLDAYEVENT:FALSE
SUMMARY:Paint by Sticker with Cats!
DESCRIPTION:It's paint by number cats\, but with stickers\, and while you're surrounded by 20+ adoptable cats so basically the best thing ever.\n\nComes with a full paint by sticker book and an extended cat lounge reservation from 8:30-10:00pm.\n\n \n\nMore Info\n\nOne ticket per person.\n\nIt is always helpful to arrive 10-15 minutes early to park\, get your drink/snacks and sign your waiver.  Parking info can be found here.\n\n\n\nReserve your spot here: https://scratchingpostcu.com/event/paint-by-sticker-with-cats/
X-ALT-DESC;FMTTYPE=text/html:<p>It&rsquo\;s paint by number cats\, but with stickers\, and while you&rsquo\;re surrounded by 20+ adoptable cats&hellip\;so basically the best thing ever.</p>\n\n<p>Comes with a full paint by sticker book and an extended cat lounge reservation from 8:30-10:00pm.</p>\n\n<p>&nbsp\;</p>\n\n<h3>More Info</h3>\n\n<p>One ticket per person.</p>\n\n<p>It is always helpful to arrive 10-15 minutes early to park\, get your drink/snacks and sign your waiver. &nbsp\;<a href="https://scratchingpostcu.com/parking/" rel="noopener" style="box-sizing: inherit\; color: rgb(239\, 73\, 198)\; text-decoration-line: none\; background-color: transparent\; transition: color 0.2s\; border-bottom: 0.888889px solid rgb(239\, 73\, 198)\;" target="_blank">Parking info can be found here</a>.<br />\n<br />\nReserve your spot here:&nbsp\;https://scratchingpostcu.com/event/paint-by-sticker-with-cats/</p>\n
LOCATION:The Scratching Post is Champaign's Cat & Board Game Cafe. Enjoy our light snack and drink menu\, purchase a game pass to access our massive library of 500+ board games\, or make a reservation to visit our cat lounge where 20+ adoptable cats are waiting to play with you.
UID:e.3371.5912
SEQUENCE:3
DTSTAMP:20260422T071236Z
URL:http://champaigncounty.smartcms.site/events/details/paint-by-sticker-with-cats-5912
END:VEVENT

END:VCALENDAR
