BEGIN:VCALENDAR
VERSION:2.0
PRODID:-//ChamberMaster//Event Calendar 2.0//EN
METHOD:PUBLISH
X-PUBLISHED-TTL:P3D
REFRESH-INTERVAL:P3D
CALSCALE:GREGORIAN
BEGIN:VEVENT
DTSTART:20260426T190000Z
DTEND:20260427T030000Z
X-MICROSOFT-CDO-ALLDAYEVENT:FALSE
SUMMARY:Local Art Exhibit - Sydney Bruner
DESCRIPTION:Walk through our cafe and enjoy a collection of local art by Sydney Bruner.\n\nNo admission fee to view the art on the cafe side.  If you'd like to visit the cats in our lounge\, you can make a reservation here.\n\nAll pieces will be available for sale.  10% of each art sale is donated to our partner non-profit rescues.\n\nAs always\, we donate 20% of the profits from our food\, drink and merch sales back to our partner rescues.  Enjoy art\, grab a drink\, help cats.\n\nSydney Bruner\n\nSydney Bruner is an artist based out of Champaign\, IL. She primarily uses acrylic and oil paint. Her artwork focuses on topics of nature\, nostalgia\, pop culture\, feminism\, and introspection. She enjoys working with bright colors\, glitter\, rhinestones\, and iridescent materials.
X-ALT-DESC;FMTTYPE=text/html:<p>Walk through our cafe and enjoy a collection of local art by Sydney Bruner.</p>\n\n<p>No admission fee to view the art on the cafe side.&nbsp\; If you&rsquo\;d like to visit the cats in our lounge\,&nbsp\;<a href="https://scratchingpostcu.com/cat-cafe-reservations/" rel="noopener" style="box-sizing: inherit\; color: rgb(239\, 73\, 198)\; text-decoration: none\; background-color: transparent\; transition: color 0.2s\; border-bottom: 0.8px solid rgb(239\, 73\, 198)\;" target="_blank">you can make a reservation here</a>.</p>\n\n<p>All pieces will be available for sale.&nbsp\; 10% of each art sale is donated to our partner non-profit rescues.</p>\n\n<p>As always\, we donate 20% of the profits from our food\, drink and merch sales back to our partner rescues.&nbsp\; Enjoy art\, grab a drink\, help cats.</p>\n\n<h2>Sydney Bruner</h2>\n\n<p>Sydney Bruner is an artist based out of Champaign\, IL. She primarily uses acrylic and oil paint. Her artwork focuses on topics of nature\, nostalgia\, pop culture\, feminism\, and introspection. She enjoys working with bright colors\, glitter\, rhinestones\, and iridescent materials.</p>\n
LOCATION:The Scratching Post is Champaign's Cat & Board Game Cafe. Enjoy our light snack and drink menu\, purchase a game pass to access our massive library of 500+ board games\, or make a reservation to visit our cat lounge where 20+ adoptable cats are waiting to play with you.
UID:e.3371.6336
SEQUENCE:3
DTSTAMP:20260421T043820Z
URL:http://champaigncounty.smartcms.site/events/details/local-art-exhibit-sydney-bruner-04-26-2026-6336
END:VEVENT

END:VCALENDAR
