BEGIN:VCALENDAR
VERSION:2.0
PRODID:-//ChamberMaster//Event Calendar 2.0//EN
METHOD:PUBLISH
X-PUBLISHED-TTL:P3D
REFRESH-INTERVAL:P3D
CALSCALE:GREGORIAN
BEGIN:VEVENT
DTSTART:20251108T023000Z
DTEND:20251108T040000Z
X-MICROSOFT-CDO-ALLDAYEVENT:FALSE
SUMMARY:Guided Meditation Hour with Cats
DESCRIPTION:What You Get\n\nEnd your work week with a guided meditation hour in our cat lounge surrounded by 20+ adoptable cats.  Your guide\, Persephone Lovell\, will ease you through every step.  No experience necessary.  Bring your yoga mat or use one of our cozy chairs or area rugs.  After meditation you can can remain in the lounge to enjoy time with the cats until 10pm.\n\n\n\nReserve your spot here!
X-ALT-DESC;FMTTYPE=text/html:<h2>What You Get</h2>\n\n<p>End your work week with a guided meditation hour in our cat lounge surrounded by 20+ adoptable cats. &nbsp\;Your guide\, Persephone Lovell\, will ease you through every step. &nbsp\;No experience necessary. &nbsp\;Bring your yoga mat or use one of our cozy chairs or area rugs. &nbsp\;After meditation you can can remain in the lounge to enjoy time with the cats until 10pm.<br />\n<br />\n<a href="https://scratchingpostcu.com/event/guided-meditation-hour-with-cats/2025-11-07/" target="_blank">Reserve your spot here!</a></p>\n
LOCATION:The Scratching Post is Champaign's Cat & Board Game Cafe. Enjoy our light snack and drink menu\, purchase a game pass to access our massive library of 500+ board games\, or make a reservation to visit our cat lounge where 20+ adoptable cats are waiting to play with you.
UID:e.3371.5909
SEQUENCE:3
DTSTAMP:20260422T071115Z
URL:http://champaigncounty.smartcms.site/events/details/guided-meditation-hour-with-cats-5909
END:VEVENT

END:VCALENDAR
