BEGIN:VCALENDAR
VERSION:2.0
PRODID:-//ChamberMaster//Event Calendar 2.0//EN
METHOD:PUBLISH
X-PUBLISHED-TTL:P3D
REFRESH-INTERVAL:P3D
CALSCALE:GREGORIAN
BEGIN:VEVENT
DTSTART:20251122T020000Z
DTEND:20251122T040000Z
X-MICROSOFT-CDO-ALLDAYEVENT:FALSE
SUMMARY:Drag Bingo @The Scratching Post!
DESCRIPTION:The fabulous Herra Winn and Portia will host a night of bingo\, prizes\, drag\, music and comedy.\n\nDoors at 7:30\, show at 8.\n\nTicket includes admission for one\, one bingo card per round and one free drink. Prepare your unhinged questions to submit during the show!\n\n\n\nReserve your spot here: https://scratchingpostcu.com/event/drag-bingo/
X-ALT-DESC;FMTTYPE=text/html:<p>The fabulous Herra Winn and Portia will host a night of bingo\, prizes\, drag\, music and comedy.</p>\n\n<p>Doors at 7:30\, show at 8.</p>\n\n<p>Ticket includes admission for one\, one bingo card per round and one free drink. Prepare your unhinged questions to submit during the show!<br />\n<br />\nReserve your spot here:&nbsp\;https://scratchingpostcu.com/event/drag-bingo/</p>\n
LOCATION:The Scratching Post is Champaign's Cat & Board Game Cafe. Enjoy our light snack and drink menu\, purchase a game pass to access our massive library of 500+ board games\, or make a reservation to visit our cat lounge where 20+ adoptable cats are waiting to play with you.
UID:e.3371.5918
SEQUENCE:3
DTSTAMP:20260422T071232Z
URL:http://champaigncounty.smartcms.site/events/details/drag-bingo-the-scratching-post-5918
END:VEVENT

END:VCALENDAR
