BEGIN:VCALENDAR
VERSION:2.0
PRODID:-//ChamberMaster//Event Calendar 2.0//EN
METHOD:PUBLISH
X-PUBLISHED-TTL:P3D
REFRESH-INTERVAL:P3D
CALSCALE:GREGORIAN
BEGIN:VEVENT
DTSTART:20260516T010000Z
DTEND:20260516T033000Z
X-MICROSOFT-CDO-ALLDAYEVENT:FALSE
SUMMARY:Drag Bingo @The Scratching Post!
DESCRIPTION:The fabulous Herra Winn\, Portia Lynn Snaps and a Special Guest will host a night of bingo\, prizes\, drag\, music and comedy.\n\nDoors at 7:30\, show at 8.\n\nTicket includes admission for one\, one bingo card per round and one free drink. Prepare your unhinged questions to submit during the show!\n\nDrag Bingo is held on the cafe side (cat free).  If you'd like to make a cat lounge reservation\, you can do that here.
X-ALT-DESC;FMTTYPE=text/html:<p>The fabulous Herra Winn\, Portia Lynn Snaps and a Special Guest will host a night of bingo\, prizes\, drag\, music and comedy.</p>\n\n<p>Doors at 7:30\, show at 8.</p>\n\n<p>Ticket includes admission for one\, one bingo card per round and one free drink. Prepare your unhinged questions to submit during the show!</p>\n\n<p>Drag Bingo is held on the cafe side (cat free).&nbsp\;&nbsp\;<a href="https://scratchingpostcu.com/cat-cafe-reservations/" rel="noopener" style="box-sizing: inherit\; color: rgb(239\, 73\, 198)\; text-decoration: none\; background-color: transparent\; transition: color 0.2s\; border-bottom: 0.8px solid rgb(239\, 73\, 198)\;" target="_blank">If you&rsquo\;d like to make a cat lounge reservation\, you can do that here.</a></p>\n
LOCATION:The Scratching Post is Champaign's Cat & Board Game Cafe. Enjoy our light snack and drink menu\, purchase a game pass to access our massive library of 500+ board games\, or make a reservation to visit our cat lounge where 20+ adoptable cats are waiting to play with you.
UID:e.3371.6365
SEQUENCE:3
DTSTAMP:20260421T184434Z
URL:http://champaigncounty.smartcms.site/events/details/drag-bingo-the-scratching-post-05-15-2026-6365
END:VEVENT

END:VCALENDAR
