BEGIN:VCALENDAR
VERSION:2.0
PRODID:-//ChamberMaster//Event Calendar 2.0//EN
METHOD:PUBLISH
X-PUBLISHED-TTL:P3D
REFRESH-INTERVAL:P3D
CALSCALE:GREGORIAN
BEGIN:VEVENT
DTSTART:20251202T160000Z
DTEND:20251202T170000Z
X-MICROSOFT-CDO-ALLDAYEVENT:FALSE
SUMMARY:Don’t Go It Alone: Improving Your Social Connections
DESCRIPTION:In partnership with Salt & Light and CRIS Healthy Aging\, Illinois Extension is offering a free program at Salt & Light's Small Outbuilding (1813 Philo Rd\, Urbana\, IL\, 61802) on Tuesday\, December 2\, from 10 - 11 AM. Studies show more than 20% of adults in the United States feel lonely\, isolated\, or both. This program explores social isolation and strategies for overcoming its challenges\, as well as ways to stay connected with others. This program is free\, but registration is required. To learn more or to register\, visit go.illinois.edu/DontGoItAloneUrbana If you need reasonable accommodation to participate\, please contact Emily Harmon at ebaine@illinois.edu
X-ALT-DESC;FMTTYPE=text/html:In partnership with Salt &amp\; Light and CRIS Healthy Aging\, Illinois Extension is offering a free program at Salt &amp\; Light&#39\;s Small Outbuilding (1813 Philo Rd\, Urbana\, IL\, 61802) on Tuesday\, December 2\, from 10 - 11 AM. Studies show more than 20% of adults in the United States feel lonely\, isolated\, or both. This program explores social isolation and strategies for overcoming its challenges\, as well as ways to stay connected with others. This program is free\, but registration is required. To learn more or to register\, visit go.illinois.edu/DontGoItAloneUrbana If you need reasonable accommodation to participate\, please contact Emily Harmon at ebaine@illinois.edu
LOCATION:Salt & Light's Small Outbuilding (1813 Philo Rd\, Urbana\, IL\, 61802)
UID:e.3371.5938
SEQUENCE:3
DTSTAMP:20260422T014137Z
URL:http://champaigncounty.smartcms.site/events/details/don-t-go-it-alone-improving-your-social-connections-5938
END:VEVENT

END:VCALENDAR
