BEGIN:VCALENDAR
VERSION:2.0
PRODID:-//ChamberMaster//Event Calendar 2.0//EN
METHOD:PUBLISH
X-PUBLISHED-TTL:P3D
REFRESH-INTERVAL:P3D
CALSCALE:GREGORIAN
BEGIN:VEVENT
DTSTART:20251104T160000Z
DTEND:20251104T170000Z
X-MICROSOFT-CDO-ALLDAYEVENT:FALSE
SUMMARY:Chamber Health Plan Information Session
DESCRIPTION:Join the Champaign County Chamber of Commerce and 360 Benefits Group for an exclusive webinar introducing the ECHI Health Program powered by the Illinois State Chamber of Commerce.\n\n\n\nThis new health insurance program gives Chamber members access to discounted level-funded health plans from UnitedHealthcare   designed for employers with as few as two covered employees.  We'll walk through how the program works\, eligibility requirements\, and how your business can take advantage of these savings.
X-ALT-DESC;FMTTYPE=text/html:<span style="font-family:aptos\,sans-serif\;"><span style="font-size:12.0pt\;">Join the Champaign County Chamber of Commerce and 360 Benefits Group for an exclusive webinar introducing the <em>ECHI Health Program powered by the Illinois State Chamber of Commerce</em>.</span></span><br />\n<br />\n<span style="font-size:12pt\;"><span style="font-family:aptos\,sans-serif\;">This new health insurance program gives Chamber members access to discounted level-funded health plans from UnitedHealthcare &ndash\; designed for employers with as few as two covered employees. &nbsp\;We&rsquo\;ll walk through how the program works\, eligibility requirements\, and how your business can take advantage of these savings.</span></span>
LOCATION:Zoom link to be provided to registrants prior to the session.
UID:e.3371.5908
SEQUENCE:3
DTSTAMP:20260422T071410Z
URL:http://champaigncounty.smartcms.site/events/details/chamber-health-plan-information-session-5908
END:VEVENT

END:VCALENDAR
