BEGIN:VCALENDAR
VERSION:2.0
PRODID:-//ChamberMaster//Event Calendar 2.0//EN
METHOD:PUBLISH
X-PUBLISHED-TTL:P3D
REFRESH-INTERVAL:P3D
CALSCALE:GREGORIAN
BEGIN:VEVENT
DTSTART:20100619T133000Z
DTEND:20100619T153000Z
X-MICROSOFT-CDO-ALLDAYEVENT:FALSE
SUMMARY:Chamber Business Success Seminar - Human Resources for Small Business Owners
DESCRIPTION:The Champaign County Chamber of Commerce is hosting our Summer Series of Business Success Seminars: Human Resources for Small Business Owners. The presenter will be Cindy Guthrie\, SPHR\, MS MBTI Certified\, Director of Human Resources Services for YG Financial Group. Each Session will be held from 8:30  to 10:30 in the Chamber's conference room at 303 West Kirby\, Champaign. Register for the entire series or individual sessions.\n Introductory Sessions - (2 hours each)\nJune 19 - Recruiting and Hiring Right\, The First Time\nJune 21 - Providing Compensation and Benefits That Are legally Sound and Help You Recruit and Retain\nJune 26 - Employees Want to Know How They Are Doing....So Tell Them\nJune 28 – Legal\, Illegal and Questionable\, Oh My! What You Don't Know Can Get You In Trouble  \n ADVANCED SESSIONS (2 hours each day)\nJuly 10 & 12 – Strategic Planning\nJuly 17 & 19  – Setting & Reaching Goals\nAugust 21 & 23 – Providing Honest Feedback\n\nCall the Norma Wesley at the Chamber to register at 531-4669 or normaw@champaigncounty.org
X-ALT-DESC;FMTTYPE=text/html:<p>The Champaign County Chamber of Commerce is hosting our Summer Series of Business Success Seminars: Human Resources for Small Business Owners. The presenter will be Cindy Guthrie\, SPHR\, MS MBTI Certified\, Director of Human Resources Services for YG Financial Group. Each Session will be held from 8:30  to 10:30 in the Chamber's conference room at 303 West Kirby\, Champaign. Register for the entire series or individual sessions.<p/>\n<p> Introductory Sessions - (2 hours each)\n<p>June 19 - Recruiting and Hiring Right\, The First Time<p/>\n<p>June 21 - Providing Compensation and Benefits That Are legally Sound and Help You Recruit and Retain</p>\n<p>June 26 - Employees Want to Know How They Are Doing....So Tell Them<p/>\n<p>June 28 – Legal\, Illegal and Questionable\, Oh My! What You Don't Know Can Get You In Trouble<p/>  \n<p> ADVANCED SESSIONS (2 hours each day)</p>\n<p>July 10 & 12 – Strategic Planning</p>\n<p>July 17 & 19  – Setting & Reaching Goals</p>\n<p>August 21 & 23 – Providing Honest Feedback</p>\n\n<p>Call the Norma Wesley at the Chamber to register at 531-4669 or normaw@champaigncounty.org</p>\n\n
LOCATION:303 W. Kirby Ave.\, Champaign\, IL 61820
UID:e.3371.332
SEQUENCE:3
DTSTAMP:20260419T234815Z
URL:http://champaigncounty.smartcms.site/events/details/chamber-business-success-seminar-human-resources-for-small-business-owners-06-19-2010-332
END:VEVENT

END:VCALENDAR
